BEGIN:VCALENDAR
VERSION:2.0
PRODID:-//Spoločenstvo MaranaTha - ECPv6.15.18//NONSGML v1.0//EN
CALSCALE:GREGORIAN
METHOD:PUBLISH
X-WR-CALNAME:Spoločenstvo MaranaTha
X-ORIGINAL-URL:https://maranathapo.sk
X-WR-CALDESC:Udalosti pre Spoločenstvo MaranaTha
REFRESH-INTERVAL;VALUE=DURATION:PT1H
X-Robots-Tag:noindex
X-PUBLISHED-TTL:PT1H
BEGIN:VTIMEZONE
TZID:Europe/Bratislava
BEGIN:DAYLIGHT
TZOFFSETFROM:+0100
TZOFFSETTO:+0200
TZNAME:CEST
DTSTART:20250330T010000
END:DAYLIGHT
BEGIN:STANDARD
TZOFFSETFROM:+0200
TZOFFSETTO:+0100
TZNAME:CET
DTSTART:20251026T010000
END:STANDARD
BEGIN:DAYLIGHT
TZOFFSETFROM:+0100
TZOFFSETTO:+0200
TZNAME:CEST
DTSTART:20260329T010000
END:DAYLIGHT
BEGIN:STANDARD
TZOFFSETFROM:+0200
TZOFFSETTO:+0100
TZNAME:CET
DTSTART:20261025T010000
END:STANDARD
BEGIN:DAYLIGHT
TZOFFSETFROM:+0100
TZOFFSETTO:+0200
TZNAME:CEST
DTSTART:20270328T010000
END:DAYLIGHT
BEGIN:STANDARD
TZOFFSETFROM:+0200
TZOFFSETTO:+0100
TZNAME:CET
DTSTART:20271031T010000
END:STANDARD
END:VTIMEZONE
BEGIN:VEVENT
DTSTART;TZID=Europe/Bratislava:20260426T190000
DTEND;TZID=Europe/Bratislava:20260426T210000
DTSTAMP:20260425T182614
CREATED:20251113T160250Z
LAST-MODIFIED:20260406T160526Z
UID:7717-1777230000-1777237200@maranathapo.sk
SUMMARY:Večer Chvál
DESCRIPTION:Aktuálna cena podľa registrácie: 72€								\n				\n					\n		\n					\n		\n				\n						\n					\n			\n						\n				\n								\n				67€			\n		\n		\n			\n				Kapacita za túto sumu naplnená\n							\n		\n						\n				\n					\n		\n				\n			\n						\n				\n								\n				72€			\n		\n		\n			\n				\n							\n		\n						\n				\n					\n		\n				\n			\n						\n				\n								\n				77€			\n		\n		\n			\n				\n							\n		\n						\n				\n					\n		\n					\n		\n				\n						\n					\n			\n						\n				\n							\n			\n		\n						\n				\n					\n		\n					\n		\n				\n						\n					\n			\n						\n				\n									\n					\n						\n									REGISTRUJ SA TU\n					\n					\n				\n								\n				\n					\n		\n					\n		\n				\n						\n					\n			\n						\n				\n							\n			\n		\n						\n				\n					\n		\n					\n		\n				\n						\n					\n			\n						\n				\n							\n			\n						\n		\n						\n				\n				\n				\n									08.05 – 10.05.2026 								\n				\n					\n		\n				\n			\n						\n				\n							\n						\n				\n				65\n				\n			\n		\n						\n				\n				\n				\n									voľných miest 								\n				\n					\n		\n				\n			\n						\n				\n							\n			\n						\n		\n						\n				\n				\n				\n									odporúčaný vek 14 – 27 								\n				\n					\n		\n				\n			\n						\n				\n							\n			\n						\n		\n						\n				\n				\n				\n									67 – 77€ 								\n				\n					\n		\n					\n		\n				\n					\n			\n	\n	\n	\n		\n					\n					\n			\n						\n				\n							\n			\n						\n		\n						\n				\n				\n				\n									08.05 – 10.05.2026 								\n				\n					\n		\n				\n			\n						\n				\n							\n						\n				\n				65\n				\n			\n		\n						\n				\n				\n				\n									voľných miest 								\n				\n					\n		\n				\n			\n						\n				\n							\n			\n						\n		\n						\n				\n				\n				\n									vek 14 – 27 (ideál) 								\n				\n					\n		\n				\n			\n						\n				\n							\n			\n						\n		\n						\n				\n				\n				\n									67 – 77€ 								\n				\n					\n		\n					\n		\n				\n						\n					\n			\n						\n				\n									PRE KOHO JE BETA?								\n				\n				\n				\n									Beta víkendovka je NIE LEN pre účastníkov alfa kurzu. Túžime sa s vami viac spoznať a chceme budovať vzťahy aj medzi vašimi skupinkami. \nNa Betu môžež prísť aj v prípade\, že si alfa kurz neabsolvoval/a. Je to otvorená akcia s nutnosťou registrácie pre mladých vo veku 14 – 27 rokov. 								\n				\n					\n		\n				\n			\n						\n				\n																														\n				\n					\n		\n					\n		\n				\n						\n					\n			\n						\n				\n							\n			\n		\n						\n				\n					\n		\n					\n		\n				\n						\n					\n			\n						\n				\n																														\n				\n					\n		\n				\n			\n						\n				\n									MIESTO A CENA								\n				\n				\n				\n									Celá víkendovka bude prebiehať v priestoroch centra Savore na Sigorde. Centrum ponúka spoločenské priestory\, telocvičňu\, kaviareň a izby s vlastnou kúpeľňou\, ktoré sú určené pre 2 až 5 osôb. \nZa pobyt sa uhrádza poplatok podľa poradia registrácie: \n\nprvých 30 prihlásených -> 67€\nďalších 25 prihlásených -> 72€\nzvyšní účastníci -> 77€\n\nPoradie registrácie a výšku účastníckeho poplatku sa účastník dozvie v druhom e-maili\, nie v prvom potvrdzovacom e-maili.\n  								\n				\n					\n		\n					\n		\n				\n						\n					\n			\n						\n				\n									MIESTO A CENA								\n				\n				\n				\n									Celá víkendovka bude prebiehať v priestoroch centra Savore na Sigorde. Centrum ponúka spoločenské priestory\, telocvičňu\, kaviareň a izby s vlastnou kúpeľňou\, ktoré sú určené pre 2 až 5 osôb. \nZa pobyt sa uhrádza poplatok podľa poradia registrácie: \n\nprvých 30 prihlásených -> 67€\nďalších 25 prihlásených -> 72€\nzvyšní účastníci -> 77€\n\nPoradie registrácie a výšku účastníckeho poplatku sa účastník dozvie v druhom e-maili\, nie v prvom potvrdzovacom e-maili.\n  								\n				\n					\n		\n				\n			\n						\n				\n																														\n				\n					\n		\n					\n		\n				\n						\n					\n			\n						\n				\n									\n					\n						\n									REGISTRUJ SA TU\n					\n					\n				\n								\n				\n					\n		\n					\n		\n				\n						\n					\n			\n						\n				\n							\n			\n		\n						\n				\n					\n		\n					\n		\n				\n						\n					\n			\n						\n				\n					FAQ:				\n				\n					\n		\n					\n		\n				\n						\n					\n			\n						\n				\n							\n							\n					\n													\n															\n								\n														\n												Čo sa tam bude diať?\n					\n					Rozhovory\, prednášky\, chvály a modlitby\, spoločné funny či športové aktivity\, sväté omše/liturgie\, oddych a voľný čas. \n				\n							\n					\n													\n															\n								\n														\n												Kedy je príchod a odchod?\n					\n					Začneme v piatok o 16:00 registráciou a skončíme v nedeľu o 14:00. \n				\n							\n					\n													\n															\n								\n														\n												Kto je organizátorom?\n					\n					Spoločenstvo Marana Tha s ich projektom – Piatky pre mladých. \n				\n							\n					\n													\n															\n								\n														\n												Musím chodiť na Piatky pre mladých ak sa chcem zúčastniť víkendovky?\n					\n					Nie \n				\n							\n					\n													\n															\n								\n														\n												Mám viac otázok 🤭\n					\n					V tom prípade sa nám neváhaj ozvať 😇 \nig: @piatky_pre_mladychfb: Piatky pre mladýche-mail: piatkypremladych@gmail.com \n				\n								\n						\n				\n					\n		\n					\n		\n				\n						\n					\n			\n						\n				\n							\n			\n		\n						\n				\n					\n		\n					\n		\n				\n						\n					\n			\n						\n				\n									REGISTRÁCIA								\n				\n				\n				\n							\n	Notice: JavaScript is required for this content.\n\n\n    \n\n\n        \n        \n        \n						\n				\n					\n		\n					\n		\n				\n						\n					\n			\n						\n				\n							\n			\n		\n						\n				\n					\n		\n					\n		\n				\n						\n					\n			\n						\n				\n									\n	\n		Piatky pre mladých\n	\n					piatkypremladych@gmail.com \n	\n\n  \n\n	\n	\n\n	\n		Multifunkčné pobytové centrum SAVORE SIGORD\n	\n\n	\n						\n				\n\nSigord 154\n	\n		\n		Kokošovce\,\n\n\n	082 52\n\n	Slovenská republika\n\n\n\n									+ Google Map							\n		\n		\n					Zobraziť webstránku Miesto konania\n			\n	\n	\n\n	\n\n\n\n\n	\n\n\n\n\n	\n		\n			\n				\n					\n						\n	\n	\n\n						\n							Pridať do kalendára						\n						\n	\n\n					\n					\n						\n															\n									\n										Google Kalendár									\n								\n															\n									\n										iCalendar									\n								\n															\n									\n										Outlook 365									\n								\n															\n									\n										Outlook Live
URL:https://maranathapo.sk/udalost/vecer-chval-5/
LOCATION:M Aréna\, Švábska 22/A\, Prešov\, 08005\, Slovenská republika
ATTACH;FMTTYPE=image/jpeg:https://maranathapo.sk/wp-content/uploads/2025/11/01.jpg
ORGANIZER;CN="Marana Tha":MAILTO:info@maranathapo.sk
END:VEVENT
END:VCALENDAR